BEGIN:VCALENDAR
VERSION:2.0
PRODID:-//bbbsmidlands.org//NONSGML kigkonsult.se iCalcreator 2.30.10//
CALSCALE:GREGORIAN
METHOD:PUBLISH
UID:30014672-3e86-427c-9278-8c7b8b708c4d
X-WR-CALDESC:Whether you are simply interested in learning more about being
  a Big or you know you are interested in taking the next step. We encourag
 e you to attend one of our Mentor Pre-Match Training Sessions. This will g
 ive you a chance to have all your questions answered and continue your vol
 unteer application process.\n\nThe session will brief you on what it takes
  to become a Big\, the responsibilities you have\, and a little more about
  our program.
X-WR-RELCALID:4498efc8d98300c921ae5a612bacafec
X-WR-TIMEZONE:America/Chicago
BEGIN:VTIMEZONE
TZID:America/Chicago
BEGIN:STANDARD
TZNAME:CST
DTSTART:20251102T020000
TZOFFSETFROM:-0500
TZOFFSETTO:-0600
RDATE:20261101T020000
RDATE:20271107T020000
END:STANDARD
BEGIN:DAYLIGHT
TZNAME:CDT
DTSTART:20260308T020000
TZOFFSETFROM:-0600
TZOFFSETTO:-0500
RDATE:20270314T020000
RDATE:20280312T020000
END:DAYLIGHT
END:VTIMEZONE
BEGIN:VEVENT
UID:d93dc6e5-a25d-46d6-843a-69f4d3ab58b1
DTSTAMP:20260421T183502Z
DESCRIPTION:Whether you are simply interested in learning more about being 
 a Big or you know you are interested in taking the next step. We encourage
  you to attend one of our Mentor Pre-Match Training Sessions. This will gi
 ve you a chance to have all your questions answered and continue your volu
 nteer application process.\n\nThe session will brief you on what it takes 
 to become a Big\, the responsibilities you have\, and a little more about 
 our program.
DTSTART;TZID=America/Chicago:20261021T180000
DTEND;TZID=America/Chicago:20261021T193000
LOCATION:2124 Y St. \, Flat 210\, Lincoln\, NE 68503 US
SUMMARY:Mentor Pre-Match Training
END:VEVENT
END:VCALENDAR
