BEGIN:VCALENDAR
VERSION:2.0
PRODID:-//bbbsmidlands.org//NONSGML kigkonsult.se iCalcreator 2.30.10//
CALSCALE:GREGORIAN
METHOD:PUBLISH
UID:cc67bfda-4ddc-44e5-b43b-9601c4bb2e86
X-WR-CALDESC:Whether you are simply interested in learning more about being
  a Big or you know you are interested in taking the next step. We encourag
 e you to attend one of our Mentor Pre-Match Training Sessions. This will g
 ive you a chance to have all your questions answered and continue your vol
 unteer application process.\n\nThe session will brief you on what it takes
  to become a Big\, the responsibilities you have\, and a little more about
  our program.
X-WR-RELCALID:eee13495085d17e81a19a97118ba435b
X-WR-TIMEZONE:America/Chicago
BEGIN:VTIMEZONE
TZID:America/Chicago
BEGIN:STANDARD
TZNAME:CST
DTSTART:20241103T020000
TZOFFSETFROM:-0500
TZOFFSETTO:-0600
RDATE:20251102T020000
RDATE:20261101T020000
END:STANDARD
BEGIN:DAYLIGHT
TZNAME:CDT
DTSTART:20250309T020000
TZOFFSETFROM:-0600
TZOFFSETTO:-0500
RDATE:20260308T020000
RDATE:20270314T020000
END:DAYLIGHT
END:VTIMEZONE
BEGIN:VEVENT
UID:48957065-860a-4ce1-81f0-46b314c52bb5
DTSTAMP:20260419T134727Z
DESCRIPTION:Whether you are simply interested in learning more about being 
 a Big or you know you are interested in taking the next step. We encourage
  you to attend one of our Mentor Pre-Match Training Sessions. This will gi
 ve you a chance to have all your questions answered and continue your volu
 nteer application process.\n\nThe session will brief you on what it takes 
 to become a Big\, the responsibilities you have\, and a little more about 
 our program.
DTSTART;TZID=America/Chicago:20251004T100000
DTEND;TZID=America/Chicago:20251004T113000
LOCATION:2124 Y St. \, Flat 210\, Lincoln\, NE 68503 US
SUMMARY:Mentor Pre-Match Training  (Copy)
END:VEVENT
END:VCALENDAR
