BEGIN:VCALENDAR
VERSION:2.0
PRODID:-//bbbsmidlands.org//NONSGML kigkonsult.se iCalcreator 2.30.10//
CALSCALE:GREGORIAN
METHOD:PUBLISH
UID:8b16dfe0-6e7c-4da1-87bf-86f527c2aa1f
X-WR-CALDESC:Whether you are simply interested in learning more about being
  a Big or you know you are interested in taking the next step. We encourag
 e you to attend one of our Mentor Pre-Match Training Sessions. This will g
 ive you a chance to have all your questions answered and continue your vol
 unteer application process.\n\nThe session will brief you on what it takes
  to become a Big\, the responsibilities you have\, and a little more about
  our program.
X-WR-RELCALID:20236b96967668404ea15ce879cdbae6
X-WR-TIMEZONE:America/Chicago
BEGIN:VTIMEZONE
TZID:America/Chicago
BEGIN:STANDARD
TZNAME:CST
DTSTART:20241103T020000
TZOFFSETFROM:-0500
TZOFFSETTO:-0600
RDATE:20251102T020000
END:STANDARD
BEGIN:DAYLIGHT
TZNAME:CDT
DTSTART:20240310T020000
TZOFFSETFROM:-0600
TZOFFSETTO:-0500
RDATE:20250309T020000
RDATE:20260308T020000
END:DAYLIGHT
END:VTIMEZONE
BEGIN:VEVENT
UID:73d6d179-1e61-43aa-9144-1e4a119ce454
DTSTAMP:20260420T042707Z
DESCRIPTION:Whether you are simply interested in learning more about being 
 a Big or you know you are interested in taking the next step. We encourage
  you to attend one of our Mentor Pre-Match Training Sessions. This will gi
 ve you a chance to have all your questions answered and continue your volu
 nteer application process.\n\nThe session will brief you on what it takes 
 to become a Big\, the responsibilities you have\, and a little more about 
 our program.
DTSTART;TZID=America/Chicago:20250111T100000
DTEND;TZID=America/Chicago:20250111T120000
LOCATION:2124 Y St. \, Flat 210\, Lincoln\, NE 68503 US
SUMMARY:Mentor Pre-Match Training
END:VEVENT
END:VCALENDAR
