BEGIN:VCALENDAR
VERSION:2.0
PRODID:-//bbbsmidlands.org//NONSGML kigkonsult.se iCalcreator 2.30.10//
CALSCALE:GREGORIAN
METHOD:PUBLISH
UID:4e7b899d-c18f-4218-a81a-b11f3c88707b
X-WR-CALDESC:Whether you are simply interested in learning more about being
  a Big or you know you are interested in taking the next step. We encourag
 e you to attend one of our Mentor Pre-Match Training Sessions. This will g
 ive you a chance to have all your questions answered and continue your vol
 unteer application process.\n\nThe session will brief you on what it takes
  to become a Big\, the responsibilities you have\, and a little more about
  our program.
X-WR-RELCALID:0abdc7b55c518479ce4b4e153e8104b7
X-WR-TIMEZONE:America/Chicago
BEGIN:VTIMEZONE
TZID:America/Chicago
BEGIN:STANDARD
TZNAME:CST
DTSTART:20291104T020000
TZOFFSETFROM:-0500
TZOFFSETTO:-0600
RDATE:20301103T020000
END:STANDARD
BEGIN:DAYLIGHT
TZNAME:CDT
DTSTART:20290311T020000
TZOFFSETFROM:-0600
TZOFFSETTO:-0500
RDATE:20300310T020000
RDATE:20310309T020000
END:DAYLIGHT
END:VTIMEZONE
BEGIN:VEVENT
UID:487dc424-88a2-4f91-aa1c-81025b818176
DTSTAMP:20260422T045719Z
DESCRIPTION:Whether you are simply interested in learning more about being 
 a Big or you know you are interested in taking the next step. We encourage
  you to attend one of our Mentor Pre-Match Training Sessions. This will gi
 ve you a chance to have all your questions answered and continue your volu
 nteer application process.\n\nThe session will brief you on what it takes 
 to become a Big\, the responsibilities you have\, and a little more about 
 our program.
DTSTART;TZID=America/Chicago:20291121T180000
DTEND;TZID=America/Chicago:20291121T193000
LOCATION:2124 Y St. \, Flat 210\, Lincoln\, NE 68503 US
SUMMARY:Mentor Pre-Match Training
END:VEVENT
END:VCALENDAR
