BEGIN:VCALENDAR
VERSION:2.0
PRODID:-//bbbsmidlands.org//NONSGML kigkonsult.se iCalcreator 2.30.10//
CALSCALE:GREGORIAN
METHOD:PUBLISH
UID:bb18f6d1-bea2-4bf3-9dca-d34c1c8a3855
X-WR-CALDESC:Whether you are simply interested in learning more about being
  a Big or you know you are interested in taking the next step. We encourag
 e you to attend one of our Mentor Pre-Match Training Sessions. This will g
 ive you a chance to have all your questions answered and continue your vol
 unteer application process.\n\nThe session will brief you on what it takes
  to become a Big\, the responsibilities you have\, and a little more about
  our program.
X-WR-RELCALID:09843ee3957530a5be95fbcf4c801d93
X-WR-TIMEZONE:America/Chicago
BEGIN:VTIMEZONE
TZID:America/Chicago
BEGIN:STANDARD
TZNAME:CST
DTSTART:20271107T020000
TZOFFSETFROM:-0500
TZOFFSETTO:-0600
RDATE:20281105T020000
END:STANDARD
BEGIN:DAYLIGHT
TZNAME:CDT
DTSTART:20270314T020000
TZOFFSETFROM:-0600
TZOFFSETTO:-0500
RDATE:20280312T020000
RDATE:20290311T020000
END:DAYLIGHT
END:VTIMEZONE
BEGIN:VEVENT
UID:34fc9026-bab4-4c2f-b590-bdea0a71f7f6
DTSTAMP:20260420T185802Z
DESCRIPTION:Whether you are simply interested in learning more about being 
 a Big or you know you are interested in taking the next step. We encourage
  you to attend one of our Mentor Pre-Match Training Sessions. This will gi
 ve you a chance to have all your questions answered and continue your volu
 nteer application process.\n\nThe session will brief you on what it takes 
 to become a Big\, the responsibilities you have\, and a little more about 
 our program.
DTSTART;TZID=America/Chicago:20280119T180000
DTEND;TZID=America/Chicago:20280119T193000
LOCATION:2124 Y St. \, Flat 210\, Lincoln\, NE 68503 US
SUMMARY:Mentor Pre-Match Training
END:VEVENT
END:VCALENDAR
